BEGIN:VCALENDAR
VERSION:2.0
PRODID:-//Mimer AI Factory - ECPv6.15.20//NONSGML v1.0//EN
CALSCALE:GREGORIAN
METHOD:PUBLISH
X-WR-CALNAME:Mimer AI Factory
X-ORIGINAL-URL:https://mimer-ai.eu
X-WR-CALDESC:Events for Mimer AI Factory
REFRESH-INTERVAL;VALUE=DURATION:PT1H
X-Robots-Tag:noindex
X-PUBLISHED-TTL:PT1H
BEGIN:VTIMEZONE
TZID:Europe/Stockholm
BEGIN:DAYLIGHT
TZOFFSETFROM:+0100
TZOFFSETTO:+0200
TZNAME:CEST
DTSTART:20250330T010000
END:DAYLIGHT
BEGIN:STANDARD
TZOFFSETFROM:+0200
TZOFFSETTO:+0100
TZNAME:CET
DTSTART:20251026T010000
END:STANDARD
BEGIN:DAYLIGHT
TZOFFSETFROM:+0100
TZOFFSETTO:+0200
TZNAME:CEST
DTSTART:20260329T010000
END:DAYLIGHT
BEGIN:STANDARD
TZOFFSETFROM:+0200
TZOFFSETTO:+0100
TZNAME:CET
DTSTART:20261025T010000
END:STANDARD
BEGIN:DAYLIGHT
TZOFFSETFROM:+0100
TZOFFSETTO:+0200
TZNAME:CEST
DTSTART:20270328T010000
END:DAYLIGHT
BEGIN:STANDARD
TZOFFSETFROM:+0200
TZOFFSETTO:+0100
TZNAME:CET
DTSTART:20271031T010000
END:STANDARD
END:VTIMEZONE
BEGIN:VEVENT
DTSTART;TZID=Europe/Stockholm:20260423T090000
DTEND;TZID=Europe/Stockholm:20260423T120000
DTSTAMP:20260419T164517
CREATED:20260413T114338Z
LAST-MODIFIED:20260413T114907Z
UID:4657-1776934800-1776945600@mimer-ai.eu
SUMMARY:Discover what Mimer AI Factory offers
DESCRIPTION:Register latest by: 20 April 2026\nCurious how AI and supercomputing can boost your work?\nWe are pleased to invite you to meet and learn about the Mimer AI Factory\, 23 of April at 9-12 in Polhemssalen (10134) at the Ångström Laboratory. The Mimer AI Factory is part of an EU program that builds a network of supercomputing-powered hubs across Europe to accelerate the development of trustworthy\, cutting-edge AI models and support innovation for researchers\, startups\, and industry. Through Mimer\, you can receive: \n\nAccess to high-performance compute resources (GPU and CPU)\nTechnical support from AI experts across multiple domains\nGuidance on scaling\, optimisation\, and validation of AI solutions\n\nWe warmly invite you to join and take part in this kick-off (see program below) to explore how Mimer can create value for your AI initiatives. \nSchedule\n\n\n\n15 April 2026\nContents\nSpeaker\n\n\n\n\n09:00-09:15\nMimer AI Factory\nRossen Apostolov\n\n\n09:15-09:45\nSuccess Stories from Different Domains:\n– Material Science\n– Life Science\n– Autonomous System\n– Gaming\n– Trustworthy AI\nMarzieh Saeedimasine & Depeng Chen\nFatemeh Rahimian\nSima Sinaei\nBjörn Flintbeg\nNishat I Mowla\n\n\n10:00-10:30\nAI Research at Uppsala University:\n– Life Science\n– Materials Science\nOla Spjuth\nDepartment of Pharmaceutical BiosciencesJonathan Scragg\nMaterials Science and Engineering\n\n\n10:30 – 12:00\nPanel discussion – How can Mimer help you?\nRossen Apostolov
URL:https://mimer-ai.eu/event/mimer-ai-factory-kickoff-off-plenary/
ATTACH;FMTTYPE=image/webp:https://mimer-ai.eu/wp-content/uploads/2026/04/Kickoff.webp
END:VEVENT
END:VCALENDAR