BEGIN:VCALENDAR
VERSION:2.0
PRODID:-//Mimer AI Factory - ECPv6.15.20//NONSGML v1.0//EN
CALSCALE:GREGORIAN
METHOD:PUBLISH
X-WR-CALNAME:Mimer AI Factory
X-ORIGINAL-URL:https://mimer-ai.eu
X-WR-CALDESC:Events for Mimer AI Factory
REFRESH-INTERVAL;VALUE=DURATION:PT1H
X-Robots-Tag:noindex
X-PUBLISHED-TTL:PT1H
BEGIN:VTIMEZONE
TZID:Europe/Stockholm
BEGIN:DAYLIGHT
TZOFFSETFROM:+0100
TZOFFSETTO:+0200
TZNAME:CEST
DTSTART:20250330T010000
END:DAYLIGHT
BEGIN:STANDARD
TZOFFSETFROM:+0200
TZOFFSETTO:+0100
TZNAME:CET
DTSTART:20251026T010000
END:STANDARD
BEGIN:DAYLIGHT
TZOFFSETFROM:+0100
TZOFFSETTO:+0200
TZNAME:CEST
DTSTART:20260329T010000
END:DAYLIGHT
BEGIN:STANDARD
TZOFFSETFROM:+0200
TZOFFSETTO:+0100
TZNAME:CET
DTSTART:20261025T010000
END:STANDARD
BEGIN:DAYLIGHT
TZOFFSETFROM:+0100
TZOFFSETTO:+0200
TZNAME:CEST
DTSTART:20270328T010000
END:DAYLIGHT
BEGIN:STANDARD
TZOFFSETFROM:+0200
TZOFFSETTO:+0100
TZNAME:CET
DTSTART:20271031T010000
END:STANDARD
END:VTIMEZONE
BEGIN:VEVENT
DTSTART;TZID=Europe/Stockholm:20260325T170000
DTEND;TZID=Europe/Stockholm:20260325T200000
DTSTAMP:20260419T183339
CREATED:20260313T133240Z
LAST-MODIFIED:20260313T211947Z
UID:3981-1774458000-1774468800@mimer-ai.eu
SUMMARY:Mimer hackathon
DESCRIPTION:​About the hackathon\nJoin our hackathon to learn how to use “research AI agents” using free European infrastructure. \nWe are pleased to collaborate with ​Stockholm AI and bring you this mini hackathon that will utilize Mimer’s free AI infrastructure. \n​The agenda is as follows: \n\n​17:15 Doors open + mingle\n18:00 Introduction to Mimer and the hackathon task. The task will be to create “research agents” using Mimer and open weight models that can answer questions using Sweden’s public data (e.g. SCB).\n​18:30 Hackathon begins\n​20:00 Wrap-up presentations and demos\n​20:30 Home time\n\n​Food and beverage will be provided. \n​NOTE: While the models will be served on Mimer infra\, people are still expected to bring their laptops to participate. You should have experience in setting up and running Python applications\,.e.g using uv\, calling APIs\, etc. You are of course free to use your favourite coding agent/IDE of choice. \nVenue\nDrottning Kristinas väg 61\, Stockholm
URL:https://mimer-ai.eu/event/agent-mimer-hackathon/
LOCATION:Drottning Kristinas väg 61\, Stockholm
ATTACH;FMTTYPE=image/jpeg:https://mimer-ai.eu/wp-content/uploads/2026/03/Mimer-hackathon.jpg
END:VEVENT
END:VCALENDAR